BEGIN:VCALENDAR
VERSION:2.0
PRODID:spatie/icalendar-generator
DESCRIPTION:Events from Families Helping Families of Greater New Orleans
X-WR-CALDESC:Events from Families Helping Families of Greater New Orleans
REFRESH-INTERVAL;VALUE=DURATION:PT1440M
X-PUBLISHED-TTL:PT1440M
BEGIN:VTIMEZONE
TZID:America/Chicago
BEGIN:DAYLIGHT
DTSTART:20170312T020000Z
TZOFFSETFROM:-0600
TZOFFSETTO:-0500
END:DAYLIGHT
BEGIN:STANDARD
DTSTART:20171105T020000Z
TZOFFSETFROM:-0500
TZOFFSETTO:-0600
END:STANDARD
END:VTIMEZONE
BEGIN:VTIMEZONE
TZID:UTC
BEGIN:STANDARD
DTSTART:20250726T170434Z
TZOFFSETFROM:+0000
TZOFFSETTO:+0000
END:STANDARD
END:VTIMEZONE
BEGIN:VEVENT
UID:451-374
DTSTAMP:20260422T170434Z
SUMMARY:IEP vs Section 504 Plans
LOCATION:
ORGANIZER;CN=Liz Dumas:MAILTO:ldumas@fhfjefferson.org
DTSTART;TZID=America/Chicago:20170816T130000
DTEND;TZID=America/Chicago:20170816T140000
X-ALT-DESC;FMTTYPE=TEXT/HTML:IEP vs Section 504 Plans: Which Is Right for M
 y Child? - Children with disabilities who qualify for special education un
 der the Individuals with Disabilities Education Act (IDEA) receive service
 s under an IEP plan. However\, some children with disabilities do not rece
 ive services under an IEP but are instead served under Section 504 of the&amp;
 hellip\;
CATEGORIES:Trainings
URL;VALUE=URI:https://fhfofgno.org/mc-events/iep-vs-section-504-plans-2?mc_
 id=451
END:VEVENT
END:VCALENDAR