BEGIN:VCALENDAR
VERSION:2.0
PRODID:spatie/icalendar-generator
DESCRIPTION:Events from Families Helping Families of Greater New Orleans
X-WR-CALDESC:Events from Families Helping Families of Greater New Orleans
REFRESH-INTERVAL;VALUE=DURATION:PT1440M
X-PUBLISHED-TTL:PT1440M
BEGIN:VTIMEZONE
TZID:America/Chicago
BEGIN:DAYLIGHT
DTSTART:20190310T020000Z
TZOFFSETFROM:-0600
TZOFFSETTO:-0500
END:DAYLIGHT
BEGIN:STANDARD
DTSTART:20191103T020000Z
TZOFFSETFROM:-0500
TZOFFSETTO:-0600
END:STANDARD
BEGIN:DAYLIGHT
DTSTART:20200308T020000Z
TZOFFSETFROM:-0600
TZOFFSETTO:-0500
END:DAYLIGHT
END:VTIMEZONE
BEGIN:VTIMEZONE
TZID:UTC
BEGIN:STANDARD
DTSTART:20250730T004408Z
TZOFFSETFROM:+0000
TZOFFSETTO:+0000
END:STANDARD
END:VTIMEZONE
BEGIN:VEVENT
UID:844-742
DTSTAMP:20260426T004408Z
SUMMARY:IEP and Behavior Rights for Children with Disabilities
LOCATION:FHF at the Crossroads 2840 Military Highway  Pineville LA 71360
ORGANIZER;CN=Liz Dumas:MAILTO:ldumas@fhfjefferson.org
DTSTART;TZID=America/Chicago:20191120T100000
DTEND;TZID=America/Chicago:20191120T120000
X-ALT-DESC;FMTTYPE=TEXT/HTML:
CATEGORIES:Office Closure
URL;VALUE=URI:https://fhfofgno.org/mc-events/iep-and-behavior-rights-for-ch
 ildren-with-disabilities?mc_id=844
END:VEVENT
END:VCALENDAR