BEGIN:VCALENDAR
VERSION:2.0
PRODID:spatie/icalendar-generator
DESCRIPTION:Events from Families Helping Families of Greater New Orleans
X-WR-CALDESC:Events from Families Helping Families of Greater New Orleans
REFRESH-INTERVAL;VALUE=DURATION:PT1440M
X-PUBLISHED-TTL:PT1440M
BEGIN:VTIMEZONE
TZID:America/Chicago
BEGIN:STANDARD
DTSTART:20171105T020000Z
TZOFFSETFROM:-0500
TZOFFSETTO:-0600
END:STANDARD
BEGIN:DAYLIGHT
DTSTART:20180311T020000Z
TZOFFSETFROM:-0600
TZOFFSETTO:-0500
END:DAYLIGHT
END:VTIMEZONE
BEGIN:VTIMEZONE
TZID:UTC
BEGIN:STANDARD
DTSTART:20250726T090427Z
TZOFFSETFROM:+0000
TZOFFSETTO:+0000
END:STANDARD
END:VTIMEZONE
BEGIN:VEVENT
UID:507-428
DTSTAMP:20260422T090427Z
SUMMARY:How do I plan for my departure from high school on to the adult wor
 ld?
LOCATION:
ORGANIZER;CN=Liz Dumas:MAILTO:ldumas@fhfjefferson.org
DTSTART;TZID=America/Chicago:20171208T120000
DTEND;TZID=America/Chicago:20171208T123000
X-ALT-DESC;FMTTYPE=TEXT/HTML:How do I plan for my departure from high schoo
 l on to the adult world?  The purpose of this facebook live is to help yo
 uth to take the lead in planning for their adult lives. We will share impo
 rtant information that can encourage youth to begin thinking about life af
 ter high school\, and offer ideas&amp;hellip\;
CATEGORIES:Office Closure
URL;VALUE=URI:https://fhfofgno.org/mc-events/how-do-i-plan-for-my-departure
 -from-high-school-on-to-the-adult-world?mc_id=507
END:VEVENT
END:VCALENDAR