BEGIN:VCALENDAR
VERSION:2.0
PRODID:spatie/icalendar-generator
DESCRIPTION:Events from Families Helping Families of Greater New Orleans
X-WR-CALDESC:Events from Families Helping Families of Greater New Orleans
REFRESH-INTERVAL;VALUE=DURATION:PT1440M
X-PUBLISHED-TTL:PT1440M
BEGIN:VTIMEZONE
TZID:America/Chicago
BEGIN:STANDARD
DTSTART:20221106T020000Z
TZOFFSETFROM:-0500
TZOFFSETTO:-0600
END:STANDARD
BEGIN:DAYLIGHT
DTSTART:20230312T020000Z
TZOFFSETFROM:-0600
TZOFFSETTO:-0500
END:DAYLIGHT
END:VTIMEZONE
BEGIN:VTIMEZONE
TZID:UTC
BEGIN:STANDARD
DTSTART:20250727T160146Z
TZOFFSETFROM:+0000
TZOFFSETTO:+0000
END:STANDARD
END:VTIMEZONE
BEGIN:VEVENT
UID:1402-1276
DTSTAMP:20260423T160146Z
SUMMARY:Hitting the High Points: An Overview of The Individualized Educatio
 n Program
LOCATION:
ORGANIZER;CN=Liz Dumas:MAILTO:ldumas@fhfjefferson.org
DTSTART;TZID=America/Chicago:20230323T100000
DTEND;TZID=America/Chicago:20230323T110000
X-ALT-DESC;FMTTYPE=TEXT/HTML:Hitting the High Points: An Overview of The In
 dividualized Education Program - Are you new to Special Education and abou
 t to experience your child’s first IEP? Or have you been questioning whe
 ther your child’s IEP is all it should be? This webinar will take a bird
 s-eye look at this plan that drives your child’s education&amp;hellip\;
CATEGORIES:Trainings
URL;VALUE=URI:https://fhfofgno.org/mc-events/hitting-the-high-points-an-ove
 rview-of-the-individualized-education-program?mc_id=1402
END:VEVENT
END:VCALENDAR