BEGIN:VCALENDAR
VERSION:2.0
PRODID:spatie/icalendar-generator
DESCRIPTION:Events from Families Helping Families of Greater New Orleans
X-WR-CALDESC:Events from Families Helping Families of Greater New Orleans
REFRESH-INTERVAL;VALUE=DURATION:PT1440M
X-PUBLISHED-TTL:PT1440M
BEGIN:VTIMEZONE
TZID:America/Chicago
BEGIN:STANDARD
DTSTART:20161106T020000Z
TZOFFSETFROM:-0500
TZOFFSETTO:-0600
END:STANDARD
BEGIN:DAYLIGHT
DTSTART:20170312T020000Z
TZOFFSETFROM:-0600
TZOFFSETTO:-0500
END:DAYLIGHT
END:VTIMEZONE
BEGIN:VTIMEZONE
TZID:UTC
BEGIN:STANDARD
DTSTART:20250726T171317Z
TZOFFSETFROM:+0000
TZOFFSETTO:+0000
END:STANDARD
END:VTIMEZONE
BEGIN:VEVENT
UID:397-329
DTSTAMP:20260422T171317Z
SUMMARY:Healthy Louisiana Plans: What does my plan cover?
LOCATION:
ORGANIZER;CN=Liz Dumas:MAILTO:ldumas@fhfjefferson.org
DTSTART;TZID=America/Chicago:20170412T123000
DTEND;TZID=America/Chicago:20170412T133000
X-ALT-DESC;FMTTYPE=TEXT/HTML:Join presenter\, Karen Scallan and learn more 
 about services that are available through Medicaid Healthy Louisiana plans
  including dental benefits\, vision and more! Audience: Parents\, Caregive
 rs\, and Professionals of School-Aged Children/Students.  Guest Presenter
 :  Karen Scallan\, Certified Parent Support Provider Special Needs &amp;amp\;
  Parent Support Services of LA\, LLC To register\, click on the link below
 .&amp;hellip\;
CATEGORIES:Trainings
URL;VALUE=URI:https://fhfofgno.org/mc-events/healthy-louisiana-plans-what-d
 oes-my-plan-cover?mc_id=397
END:VEVENT
END:VCALENDAR