BEGIN:VCALENDAR
VERSION:2.0
PRODID:spatie/icalendar-generator
DESCRIPTION:Events from Families Helping Families of Greater New Orleans
X-WR-CALDESC:Events from Families Helping Families of Greater New Orleans
REFRESH-INTERVAL;VALUE=DURATION:PT1440M
X-PUBLISHED-TTL:PT1440M
BEGIN:VTIMEZONE
TZID:America/Chicago
BEGIN:STANDARD
DTSTART:20171105T020000Z
TZOFFSETFROM:-0500
TZOFFSETTO:-0600
END:STANDARD
BEGIN:DAYLIGHT
DTSTART:20180311T020000Z
TZOFFSETFROM:-0600
TZOFFSETTO:-0500
END:DAYLIGHT
BEGIN:STANDARD
DTSTART:20181104T020000Z
TZOFFSETFROM:-0500
TZOFFSETTO:-0600
END:STANDARD
END:VTIMEZONE
BEGIN:VTIMEZONE
TZID:UTC
BEGIN:STANDARD
DTSTART:20250725T140546Z
TZOFFSETFROM:+0000
TZOFFSETTO:+0000
END:STANDARD
END:VTIMEZONE
BEGIN:VEVENT
UID:643-547
DTSTAMP:20260421T140546Z
SUMMARY:Healthy Blue Back to School Giveaway for Children Grades K-5 With A
 utism
LOCATION:
ORGANIZER;CN=Liz Dumas:MAILTO:ldumas@fhfjefferson.org
DTSTART;TZID=America/Chicago:20180728T100000
DTEND;TZID=America/Chicago:20180728T130000
X-ALT-DESC;FMTTYPE=TEXT/HTML:Healthy Blue Back to School Giveaway for stude
 nts K-5 with AUTISM July 28th\, at We Rock the Spectrum - New Orleans In 
 order to participate\, YOU MUST REGISTER with Families Helping Families of
  Greater New Orleans within the allotted timeslots below. 10:00 am - 11:00
  am http://bit.ly/B2S10to11 11:00 am - 12:00 pm http://bit.ly/B2S11to12 
 12:00 pm - 1:00 pm http://bit.ly/B2S12to1
CATEGORIES:Office Closure
URL;VALUE=URI:https://fhfofgno.org/mc-events/healthy-blue-back-to-school-gi
 veaway-for-children-grades-k-5-with-autism?mc_id=643
END:VEVENT
END:VCALENDAR