BEGIN:VCALENDAR
VERSION:2.0
PRODID:spatie/icalendar-generator
DESCRIPTION:Events from Families Helping Families of Greater New Orleans
X-WR-CALDESC:Events from Families Helping Families of Greater New Orleans
REFRESH-INTERVAL;VALUE=DURATION:PT1440M
X-PUBLISHED-TTL:PT1440M
BEGIN:VTIMEZONE
TZID:America/Chicago
BEGIN:STANDARD
DTSTART:20161106T020000Z
TZOFFSETFROM:-0500
TZOFFSETTO:-0600
END:STANDARD
BEGIN:DAYLIGHT
DTSTART:20170312T020000Z
TZOFFSETFROM:-0600
TZOFFSETTO:-0500
END:DAYLIGHT
END:VTIMEZONE
BEGIN:VTIMEZONE
TZID:UTC
BEGIN:STANDARD
DTSTART:20250726T233345Z
TZOFFSETFROM:+0000
TZOFFSETTO:+0000
END:STANDARD
END:VTIMEZONE
BEGIN:VEVENT
UID:314-257
DTSTAMP:20260422T233345Z
SUMMARY:Health Care Rights for Transitioning Youth in Healthy Louisiana Pla
 ns: Know your rights and be empowered!
LOCATION:
ORGANIZER;CN=Liz Dumas:MAILTO:ldumas@fhfjefferson.org
DTSTART;TZID=America/Chicago:20161208T130000
DTEND;TZID=America/Chicago:20161208T140000
X-ALT-DESC;FMTTYPE=TEXT/HTML:This webinar will explore health care rights o
 f youth in transition ages 14-21 who receive health care through one of th
 e 5 Healthy Louisiana Plans (formerly known as Bayou Health).  Knowing wh
 at services you are entitled to helps you advocate for better care and wor
 k more closely with doctors to receive the services you need.&amp;hellip\;
CATEGORIES:Trainings
URL;VALUE=URI:https://fhfofgno.org/mc-events/health-care-rights-for-transit
 ioning-youth-in-healthy-louisiana-plans-know-your-rights-and-be-empowered?
 mc_id=314
END:VEVENT
END:VCALENDAR