BEGIN:VCALENDAR
VERSION:2.0
PRODID:spatie/icalendar-generator
DESCRIPTION:Events from Families Helping Families of Greater New Orleans
X-WR-CALDESC:Events from Families Helping Families of Greater New Orleans
REFRESH-INTERVAL;VALUE=DURATION:PT1440M
X-PUBLISHED-TTL:PT1440M
BEGIN:VTIMEZONE
TZID:America/Chicago
BEGIN:STANDARD
DTSTART:20141102T020000Z
TZOFFSETFROM:-0500
TZOFFSETTO:-0600
END:STANDARD
BEGIN:DAYLIGHT
DTSTART:20150308T020000Z
TZOFFSETFROM:-0600
TZOFFSETTO:-0500
END:DAYLIGHT
BEGIN:STANDARD
DTSTART:20151101T020000Z
TZOFFSETFROM:-0500
TZOFFSETTO:-0600
END:STANDARD
END:VTIMEZONE
BEGIN:VTIMEZONE
TZID:UTC
BEGIN:STANDARD
DTSTART:20250725T152347Z
TZOFFSETFROM:+0000
TZOFFSETTO:+0000
END:STANDARD
END:VTIMEZONE
BEGIN:VEVENT
UID:1-1
DTSTAMP:20260421T152347Z
SUMMARY:FHF Open House
LOCATION:FHF of GNO 700 Hickory Avenue  Harahan Louisiana 70123
ORGANIZER;CN=familieshelp:MAILTO:jamie@solidwebservice.com
DTSTART;TZID=America/Chicago:20150505T120000
DTEND;TZID=America/Chicago:20150505T190000
X-ALT-DESC;FMTTYPE=TEXT/HTML:
CATEGORIES:Office Closure
URL;VALUE=URI:https://fhfofgno.org/mc-events/fhf-open-house?mc_id=1
END:VEVENT
END:VCALENDAR