BEGIN:VCALENDAR
VERSION:2.0
PRODID:spatie/icalendar-generator
DESCRIPTION:Events from Families Helping Families of Greater New Orleans
X-WR-CALDESC:Events from Families Helping Families of Greater New Orleans
REFRESH-INTERVAL;VALUE=DURATION:PT1440M
X-PUBLISHED-TTL:PT1440M
BEGIN:VTIMEZONE
TZID:America/Chicago
BEGIN:STANDARD
DTSTART:20141102T020000Z
TZOFFSETFROM:-0500
TZOFFSETTO:-0600
END:STANDARD
BEGIN:DAYLIGHT
DTSTART:20150308T020000Z
TZOFFSETFROM:-0600
TZOFFSETTO:-0500
END:DAYLIGHT
END:VTIMEZONE
BEGIN:VTIMEZONE
TZID:UTC
BEGIN:STANDARD
DTSTART:20250725T122618Z
TZOFFSETFROM:+0000
TZOFFSETTO:+0000
END:STANDARD
END:VTIMEZONE
BEGIN:VEVENT
UID:11-10
DTSTAMP:20260421T122618Z
SUMMARY:FAPE vs FAPE: IDEA &amp; Section 504 - Webinar
LOCATION:
ORGANIZER;CN=familieshelp:MAILTO:jamie@solidwebservice.com
DTSTART;TZID=America/Chicago:20150429T110000
DTEND;TZID=America/Chicago:20150429T120000
X-ALT-DESC;FMTTYPE=TEXT/HTML:FAPE vs FAPE: IDEA &amp;amp\; Section 504 (webinar
 ) Are you confused about which law applies to your child? The Individuals 
 with Disabilities Education Act (IDEA) or Section 504 of the Rehabilitatio
 n Act? Would you like to have a clearer understanding about the difference
 s and similarities between the two laws? This webinar provides participant
 s with a&amp;hellip\;
CATEGORIES:Trainings
URL;VALUE=URI:https://fhfofgno.org/mc-events/fape-vs-fape-idea-section-504-
 webinar?mc_id=11
END:VEVENT
END:VCALENDAR