BEGIN:VCALENDAR
VERSION:2.0
PRODID:spatie/icalendar-generator
DESCRIPTION:Events from Families Helping Families of Greater New Orleans
X-WR-CALDESC:Events from Families Helping Families of Greater New Orleans
REFRESH-INTERVAL;VALUE=DURATION:PT1440M
X-PUBLISHED-TTL:PT1440M
BEGIN:VTIMEZONE
TZID:America/Chicago
BEGIN:DAYLIGHT
DTSTART:20160313T020000Z
TZOFFSETFROM:-0600
TZOFFSETTO:-0500
END:DAYLIGHT
BEGIN:STANDARD
DTSTART:20161106T020000Z
TZOFFSETFROM:-0500
TZOFFSETTO:-0600
END:STANDARD
BEGIN:DAYLIGHT
DTSTART:20170312T020000Z
TZOFFSETFROM:-0600
TZOFFSETTO:-0500
END:DAYLIGHT
END:VTIMEZONE
BEGIN:VTIMEZONE
TZID:UTC
BEGIN:STANDARD
DTSTART:20250725T152226Z
TZOFFSETFROM:+0000
TZOFFSETTO:+0000
END:STANDARD
END:VTIMEZONE
BEGIN:VEVENT
UID:286-234
DTSTAMP:20260421T152226Z
SUMMARY:EEOC Basic Overview of the Law
LOCATION:
ORGANIZER;CN=Liz Dumas:MAILTO:ldumas@fhfjefferson.org
DTSTART;TZID=America/Chicago:20161110T120000
DTEND;TZID=America/Chicago:20161110T130000
X-ALT-DESC;FMTTYPE=TEXT/HTML:This presentation will focus on each of the la
 ws enforced by the EEOC including example of discriminatory practices and 
 how an employee files a Charge of Discrimination.  It will also include w
 hat an employer should do after being Notified of a Charge. Presenter: Mar
 vis Hicks\, Outreach &amp;amp\; Education Coordinator - Equal Employment Oppor
 tunity Commission (EEOC)&amp;hellip\;
CATEGORIES:Trainings
URL;VALUE=URI:https://fhfofgno.org/mc-events/eeoc-basic-overview-of-the-law
 ?mc_id=286
END:VEVENT
END:VCALENDAR