BEGIN:VCALENDAR
VERSION:2.0
PRODID:spatie/icalendar-generator
DESCRIPTION:Events from Families Helping Families of Greater New Orleans
X-WR-CALDESC:Events from Families Helping Families of Greater New Orleans
REFRESH-INTERVAL;VALUE=DURATION:PT1440M
X-PUBLISHED-TTL:PT1440M
BEGIN:VTIMEZONE
TZID:America/Chicago
BEGIN:DAYLIGHT
DTSTART:20200308T020000Z
TZOFFSETFROM:-0600
TZOFFSETTO:-0500
END:DAYLIGHT
BEGIN:STANDARD
DTSTART:20201101T020000Z
TZOFFSETFROM:-0500
TZOFFSETTO:-0600
END:STANDARD
END:VTIMEZONE
BEGIN:VTIMEZONE
TZID:UTC
BEGIN:STANDARD
DTSTART:20250729T133620Z
TZOFFSETFROM:+0000
TZOFFSETTO:+0000
END:STANDARD
END:VTIMEZONE
BEGIN:VEVENT
UID:976-872
DTSTAMP:20260425T133620Z
SUMMARY:Dyslexia: The Importance of Identification and Early Intervention
LOCATION:
ORGANIZER;CN=Liz Dumas:MAILTO:ldumas@fhfjefferson.org
DTSTART;TZID=America/Chicago:20200810T190000
DTEND;TZID=America/Chicago:20200810T200000
X-ALT-DESC;FMTTYPE=TEXT/HTML: Dyslexia: The Importance of Identification a
 nd Early Intervention - Often times schools\, teachers\, and parents have 
 the unfortunate experience of witnessing students struggle with reading. I
 f examined closely\, knowing the cause and doing something about it can ma
 ke the world of a difference in a child’s life. There are steps all key 
 stakeholders can take&amp;hellip\;
CATEGORIES:Trainings
URL;VALUE=URI:https://fhfofgno.org/mc-events/dyslexia-the-importance-of-ide
 ntification-and-early-intervention-2?mc_id=976
END:VEVENT
END:VCALENDAR