BEGIN:VCALENDAR
VERSION:2.0
PRODID:spatie/icalendar-generator
DESCRIPTION:Events from Families Helping Families of Greater New Orleans
X-WR-CALDESC:Events from Families Helping Families of Greater New Orleans
REFRESH-INTERVAL;VALUE=DURATION:PT1440M
X-PUBLISHED-TTL:PT1440M
BEGIN:VTIMEZONE
TZID:America/Chicago
BEGIN:DAYLIGHT
DTSTART:20250309T020000Z
TZOFFSETFROM:-0600
TZOFFSETTO:-0500
END:DAYLIGHT
BEGIN:STANDARD
DTSTART:20251102T020000Z
TZOFFSETFROM:-0500
TZOFFSETTO:-0600
END:STANDARD
BEGIN:DAYLIGHT
DTSTART:20260308T020000Z
TZOFFSETFROM:-0600
TZOFFSETTO:-0500
END:DAYLIGHT
END:VTIMEZONE
BEGIN:VTIMEZONE
TZID:UTC
BEGIN:STANDARD
DTSTART:20250728T081651Z
TZOFFSETFROM:+0000
TZOFFSETTO:+0000
END:STANDARD
END:VTIMEZONE
BEGIN:VEVENT
UID:1790-1647
DTSTAMP:20260424T081651Z
SUMMARY:Do you know what your child’s Related Services are on their IEP?
LOCATION:
ORGANIZER;CN=Liz Dumas:MAILTO:ldumas@fhfjefferson.org
DTSTART;TZID=America/Chicago:20251114T110000
DTEND;TZID=America/Chicago:20251114T120000
X-ALT-DESC;FMTTYPE=TEXT/HTML:Do you know what your child’s Related Servic
 es are on their IEP?  - Children with disabilities are entitled to specia
 l education and related services. The IEP must contain a statement of the 
 special education\, related services and supplementary aids and services t
 o be provided to the child. Participants will learn several critical eleme
 nts used to&amp;hellip\;
CATEGORIES:Trainings
URL;VALUE=URI:https://fhfofgno.org/mc-events/do-you-know-what-your-childs-r
 elated-services-are-on-their-iep?mc_id=1790
END:VEVENT
END:VCALENDAR