BEGIN:VCALENDAR
VERSION:2.0
PRODID:spatie/icalendar-generator
DESCRIPTION:Events from Families Helping Families of Greater New Orleans
X-WR-CALDESC:Events from Families Helping Families of Greater New Orleans
REFRESH-INTERVAL;VALUE=DURATION:PT1440M
X-PUBLISHED-TTL:PT1440M
BEGIN:VTIMEZONE
TZID:America/Chicago
BEGIN:DAYLIGHT
DTSTART:20160313T020000Z
TZOFFSETFROM:-0600
TZOFFSETTO:-0500
END:DAYLIGHT
BEGIN:STANDARD
DTSTART:20161106T020000Z
TZOFFSETFROM:-0500
TZOFFSETTO:-0600
END:STANDARD
BEGIN:DAYLIGHT
DTSTART:20170312T020000Z
TZOFFSETFROM:-0600
TZOFFSETTO:-0500
END:DAYLIGHT
END:VTIMEZONE
BEGIN:VTIMEZONE
TZID:UTC
BEGIN:STANDARD
DTSTART:20250726T011742Z
TZOFFSETFROM:+0000
TZOFFSETTO:+0000
END:STANDARD
END:VTIMEZONE
BEGIN:VEVENT
UID:308-251
DTSTAMP:20260422T011742Z
SUMMARY:Cooking Matters
LOCATION:Elmwood Fitness Center Auditorium 1200 S. Clearview Pkwy.  Elmwood
  LA 70123
ORGANIZER;CN=Liz Dumas:MAILTO:ldumas@fhfjefferson.org
DTSTART;TZID=America/Chicago:20161128T170000
DTEND;TZID=America/Chicago:20161128T190000
X-ALT-DESC;FMTTYPE=TEXT/HTML:To enroll or find out more information about t
 he classes\, please call: Raquel Castaneda\, 504-888-9111 Ext. 217
CATEGORIES:Office Closure
URL;VALUE=URI:https://fhfofgno.org/mc-events/cooking-matters-4?mc_id=308
END:VEVENT
END:VCALENDAR