BEGIN:VCALENDAR
VERSION:2.0
PRODID:spatie/icalendar-generator
DESCRIPTION:Events from Families Helping Families of Greater New Orleans
X-WR-CALDESC:Events from Families Helping Families of Greater New Orleans
REFRESH-INTERVAL;VALUE=DURATION:PT1440M
X-PUBLISHED-TTL:PT1440M
BEGIN:VTIMEZONE
TZID:America/Chicago
BEGIN:STANDARD
DTSTART:20221106T020000Z
TZOFFSETFROM:-0500
TZOFFSETTO:-0600
END:STANDARD
BEGIN:DAYLIGHT
DTSTART:20230312T020000Z
TZOFFSETFROM:-0600
TZOFFSETTO:-0500
END:DAYLIGHT
BEGIN:STANDARD
DTSTART:20231105T020000Z
TZOFFSETFROM:-0500
TZOFFSETTO:-0600
END:STANDARD
END:VTIMEZONE
BEGIN:VTIMEZONE
TZID:UTC
BEGIN:STANDARD
DTSTART:20250726T073841Z
TZOFFSETFROM:+0000
TZOFFSETTO:+0000
END:STANDARD
END:VTIMEZONE
BEGIN:VEVENT
UID:1419-1293
DTSTAMP:20260422T073841Z
SUMMARY:Coffee Break! What do I do if my child's school keeps calling me to
  come pick him up?
LOCATION:
ORGANIZER;CN=Liz Dumas:MAILTO:ldumas@fhfjefferson.org
DTSTART;TZID=America/Chicago:20230508T100000
DTEND;TZID=America/Chicago:20230508T101500
X-ALT-DESC;FMTTYPE=TEXT/HTML:Coffee Break: Grab a cup of coffee and join us
  for this brief 15-minute mini-training aimed at answering a single disabi
 lity-related dilemma. This month\, Laura Nata\, our Director of Peer Suppo
 rt here at FHF of GNO\, will join us to discuss this question: “What do 
 I do if my child’s school keeps calling me to&amp;hellip\;
CATEGORIES:Trainings
URL;VALUE=URI:https://fhfofgno.org/mc-events/coffee-break-what-do-i-do-if-m
 y-childs-school-keeps-calling-me-to-come-pick-him-up?mc_id=1419
END:VEVENT
END:VCALENDAR