BEGIN:VCALENDAR
VERSION:2.0
PRODID:spatie/icalendar-generator
DESCRIPTION:Events from Families Helping Families of Greater New Orleans
X-WR-CALDESC:Events from Families Helping Families of Greater New Orleans
REFRESH-INTERVAL;VALUE=DURATION:PT1440M
X-PUBLISHED-TTL:PT1440M
BEGIN:VTIMEZONE
TZID:America/Chicago
BEGIN:STANDARD
DTSTART:20231105T020000Z
TZOFFSETFROM:-0500
TZOFFSETTO:-0600
END:STANDARD
BEGIN:DAYLIGHT
DTSTART:20240310T020000Z
TZOFFSETFROM:-0600
TZOFFSETTO:-0500
END:DAYLIGHT
END:VTIMEZONE
BEGIN:VTIMEZONE
TZID:UTC
BEGIN:STANDARD
DTSTART:20250726T005710Z
TZOFFSETFROM:+0000
TZOFFSETTO:+0000
END:STANDARD
END:VTIMEZONE
BEGIN:VEVENT
UID:1555-1420
DTSTAMP:20260422T005710Z
SUMMARY:CANCELLED -  OCDD Waiver Services: What to Expect in Planning and A
 ssessment
LOCATION:
ORGANIZER;CN=Liz Dumas:MAILTO:ldumas@fhfjefferson.org
DTSTART;TZID=America/Chicago:20240422T120000
DTEND;TZID=America/Chicago:20240422T130000
X-ALT-DESC;FMTTYPE=TEXT/HTML:THIS WEBINAR HAS BEEN CANCELLED OCDD Waiver Se
 rvices: What to Expect in Planning and Assessment - Would you like to lear
 n more about: What to expect for the waiver needs-based assessment(s)? How
  to identify and build your support team? What your support planning meeti
 ng and plan should look like? Dr. Brandi Kelly and Dr. Amy&amp;hellip\;
CATEGORIES:Trainings
URL;VALUE=URI:https://fhfofgno.org/mc-events/cancelled-ocdd-waiver-services
 -what-to-expect-in-planning-and-assessment?mc_id=1555
END:VEVENT
END:VCALENDAR