BEGIN:VCALENDAR
VERSION:2.0
PRODID:spatie/icalendar-generator
DESCRIPTION:Events from Families Helping Families of Greater New Orleans
X-WR-CALDESC:Events from Families Helping Families of Greater New Orleans
REFRESH-INTERVAL;VALUE=DURATION:PT1440M
X-PUBLISHED-TTL:PT1440M
BEGIN:VTIMEZONE
TZID:America/Chicago
BEGIN:STANDARD
DTSTART:20201101T020000Z
TZOFFSETFROM:-0500
TZOFFSETTO:-0600
END:STANDARD
BEGIN:DAYLIGHT
DTSTART:20210314T020000Z
TZOFFSETFROM:-0600
TZOFFSETTO:-0500
END:DAYLIGHT
END:VTIMEZONE
BEGIN:VTIMEZONE
TZID:UTC
BEGIN:STANDARD
DTSTART:20250729T162141Z
TZOFFSETFROM:+0000
TZOFFSETTO:+0000
END:STANDARD
END:VTIMEZONE
BEGIN:VEVENT
UID:1018-911
DTSTAMP:20260425T162141Z
SUMMARY:CANCELLED/Getting and Keeping Your First Job
LOCATION:
ORGANIZER;CN=Liz Dumas:MAILTO:ldumas@fhfjefferson.org
DTSTART;TZID=America/Chicago:20201214T120000
DTEND;TZID=America/Chicago:20201214T130000
X-ALT-DESC;FMTTYPE=TEXT/HTML:THIS WEBINAR HAS BEEN CANCELLED Getting and Ke
 eping Your First Job – Getting and then keeping a job for someone with a
  disability can be tough.  This training will go over why work is importa
 nt\, challenges for youth\, the labor market\, disability disclosure\, acc
 ommodations and more. Co-Sponsor: FHF at the Crossroads of La. Presenter:
  Jessica Rodrigue\,&amp;hellip\;
CATEGORIES:Trainings
URL;VALUE=URI:https://fhfofgno.org/mc-events/cancelled-getting-and-keeping-
 your-first-job?mc_id=1018
END:VEVENT
END:VCALENDAR