BEGIN:VCALENDAR
VERSION:2.0
PRODID:spatie/icalendar-generator
DESCRIPTION:Events from Families Helping Families of Greater New Orleans
X-WR-CALDESC:Events from Families Helping Families of Greater New Orleans
REFRESH-INTERVAL;VALUE=DURATION:PT1440M
X-PUBLISHED-TTL:PT1440M
BEGIN:VTIMEZONE
TZID:America/Chicago
BEGIN:DAYLIGHT
DTSTART:20200308T020000Z
TZOFFSETFROM:-0600
TZOFFSETTO:-0500
END:DAYLIGHT
BEGIN:STANDARD
DTSTART:20201101T020000Z
TZOFFSETFROM:-0500
TZOFFSETTO:-0600
END:STANDARD
BEGIN:DAYLIGHT
DTSTART:20210314T020000Z
TZOFFSETFROM:-0600
TZOFFSETTO:-0500
END:DAYLIGHT
END:VTIMEZONE
BEGIN:VTIMEZONE
TZID:UTC
BEGIN:STANDARD
DTSTART:20250726T091456Z
TZOFFSETFROM:+0000
TZOFFSETTO:+0000
END:STANDARD
END:VTIMEZONE
BEGIN:VEVENT
UID:1021-914
DTSTAMP:20260422T091456Z
SUMMARY:Breaking the Tourettes Stigma: Tics are Just the Tip of the Iceberg
 !
LOCATION:
ORGANIZER;CN=Liz Dumas:MAILTO:ldumas@fhfjefferson.org
DTSTART;TZID=America/Chicago:20201021T183000
DTEND;TZID=America/Chicago:20201021T073000
X-ALT-DESC;FMTTYPE=TEXT/HTML:Breaking the Tourettes Stigma: Tics are Just t
 he Tip of the Iceberg! This one-hour webinar is to familiarize you with To
 urette Syndrome and the unknown complexity of the disorder.  This course 
 is designed to provide you with an introduction to the symptoms\, common m
 isperceptions\, treatment overview\, tools for school and resources that c
 an enable children&amp;hellip\;
CATEGORIES:Trainings
URL;VALUE=URI:https://fhfofgno.org/mc-events/breaking-the-tourettes-stigma-
 tics-are-just-the-tip-of-the-iceberg?mc_id=1021
END:VEVENT
END:VCALENDAR