BEGIN:VCALENDAR
VERSION:2.0
PRODID:spatie/icalendar-generator
DESCRIPTION:Events from Families Helping Families of Greater New Orleans
X-WR-CALDESC:Events from Families Helping Families of Greater New Orleans
REFRESH-INTERVAL;VALUE=DURATION:PT1440M
X-PUBLISHED-TTL:PT1440M
BEGIN:VTIMEZONE
TZID:America/Chicago
BEGIN:STANDARD
DTSTART:20151101T020000Z
TZOFFSETFROM:-0500
TZOFFSETTO:-0600
END:STANDARD
BEGIN:DAYLIGHT
DTSTART:20160313T020000Z
TZOFFSETFROM:-0600
TZOFFSETTO:-0500
END:DAYLIGHT
BEGIN:STANDARD
DTSTART:20161106T020000Z
TZOFFSETFROM:-0500
TZOFFSETTO:-0600
END:STANDARD
END:VTIMEZONE
BEGIN:VTIMEZONE
TZID:UTC
BEGIN:STANDARD
DTSTART:20250729T162311Z
TZOFFSETFROM:+0000
TZOFFSETTO:+0000
END:STANDARD
END:VTIMEZONE
BEGIN:VEVENT
UID:192-150
DTSTAMP:20260425T162311Z
SUMMARY:Best Practices for Social and Communication IEP Goals for Students 
 with ASD
LOCATION:
ORGANIZER;CN=Liz Dumas:MAILTO:ldumas@fhfjefferson.org
DTSTART;TZID=America/Chicago:20160525T100000
DTEND;TZID=America/Chicago:20160525T110000
X-ALT-DESC;FMTTYPE=TEXT/HTML:Best Practices for Social and Communication IE
 P Goals for Students with ASD:  Social interaction and communication are 
 crucial areas to be addressed in schools for students with ASD.  We will 
 review best practices surrounding assessing\, creating\, and monitoring so
 cial interaction and communication IEP goals.   Collaborative strategies
  and relevant resources will also be shared. Presenter: Jilie&amp;hellip\;
CATEGORIES:Trainings
URL;VALUE=URI:https://fhfofgno.org/mc-events/best-practices-for-social-and-
 communication-iep-goals-for-students-with-asd?mc_id=192
END:VEVENT
END:VCALENDAR