BEGIN:VCALENDAR
VERSION:2.0
PRODID:spatie/icalendar-generator
DESCRIPTION:Events from Families Helping Families of Greater New Orleans
X-WR-CALDESC:Events from Families Helping Families of Greater New Orleans
REFRESH-INTERVAL;VALUE=DURATION:PT1440M
X-PUBLISHED-TTL:PT1440M
BEGIN:VTIMEZONE
TZID:America/Chicago
BEGIN:DAYLIGHT
DTSTART:20170312T020000Z
TZOFFSETFROM:-0600
TZOFFSETTO:-0500
END:DAYLIGHT
BEGIN:STANDARD
DTSTART:20171105T020000Z
TZOFFSETFROM:-0500
TZOFFSETTO:-0600
END:STANDARD
BEGIN:DAYLIGHT
DTSTART:20180311T020000Z
TZOFFSETFROM:-0600
TZOFFSETTO:-0500
END:DAYLIGHT
END:VTIMEZONE
BEGIN:VTIMEZONE
TZID:UTC
BEGIN:STANDARD
DTSTART:20250725T213509Z
TZOFFSETFROM:+0000
TZOFFSETTO:+0000
END:STANDARD
END:VTIMEZONE
BEGIN:VEVENT
UID:499-420
DTSTAMP:20260421T213509Z
SUMMARY:Basic Rights in Special Education
LOCATION:West Bank Regional Library 2751 Manhattan Blvd  Harvey LA 70058
ORGANIZER;CN=Liz Dumas:MAILTO:ldumas@fhfjefferson.org
DTSTART;TZID=America/Chicago:20171103T120000
DTEND;TZID=America/Chicago:20171103T130000
X-ALT-DESC;FMTTYPE=TEXT/HTML:To register\, call 504-888-9111 or toll-free 1
 -800-766-7736 To register on online click on the link below.
CATEGORIES:Office Closure
URL;VALUE=URI:https://fhfofgno.org/mc-events/basic-rights-in-special-educat
 ion-7?mc_id=499
END:VEVENT
END:VCALENDAR