BEGIN:VCALENDAR
VERSION:2.0
PRODID:spatie/icalendar-generator
DESCRIPTION:Events from Families Helping Families of Greater New Orleans
X-WR-CALDESC:Events from Families Helping Families of Greater New Orleans
REFRESH-INTERVAL;VALUE=DURATION:PT1440M
X-PUBLISHED-TTL:PT1440M
BEGIN:VTIMEZONE
TZID:America/Chicago
BEGIN:STANDARD
DTSTART:20151101T020000Z
TZOFFSETFROM:-0500
TZOFFSETTO:-0600
END:STANDARD
BEGIN:DAYLIGHT
DTSTART:20160313T020000Z
TZOFFSETFROM:-0600
TZOFFSETTO:-0500
END:DAYLIGHT
END:VTIMEZONE
BEGIN:VTIMEZONE
TZID:UTC
BEGIN:STANDARD
DTSTART:20250725T134309Z
TZOFFSETFROM:+0000
TZOFFSETTO:+0000
END:STANDARD
END:VTIMEZONE
BEGIN:VEVENT
UID:128-102
DTSTAMP:20260421T134309Z
SUMMARY:Basic Rights in Special Education
LOCATION:
ORGANIZER;CN=Liz Dumas:MAILTO:ldumas@fhfjefferson.org
DTSTART;TZID=America/Chicago:20160218T103000
DTEND;TZID=America/Chicago:20160218T113000
X-ALT-DESC;FMTTYPE=TEXT/HTML:Whether you’re new to special education or h
 ave been involved for a while\, this workshop is for you.  This presentat
 ion provides families with an introduction to their rights and responsibil
 ities as parents of children with special needs under the Individuals with
  Disabilities Education Act (IDEA)\, and Section 504 of the Vocational Reh
 abilitation Act.  Parents begin&amp;hellip\;
CATEGORIES:Trainings
URL;VALUE=URI:https://fhfofgno.org/mc-events/basic-rights-in-special-educat
 ion-2?mc_id=128
END:VEVENT
END:VCALENDAR