BEGIN:VCALENDAR
VERSION:2.0
PRODID:spatie/icalendar-generator
DESCRIPTION:Events from Families Helping Families of Greater New Orleans
X-WR-CALDESC:Events from Families Helping Families of Greater New Orleans
REFRESH-INTERVAL;VALUE=DURATION:PT1440M
X-PUBLISHED-TTL:PT1440M
BEGIN:VTIMEZONE
TZID:America/Chicago
BEGIN:STANDARD
DTSTART:20191103T020000Z
TZOFFSETFROM:-0500
TZOFFSETTO:-0600
END:STANDARD
BEGIN:DAYLIGHT
DTSTART:20200308T020000Z
TZOFFSETFROM:-0600
TZOFFSETTO:-0500
END:DAYLIGHT
BEGIN:STANDARD
DTSTART:20201101T020000Z
TZOFFSETFROM:-0500
TZOFFSETTO:-0600
END:STANDARD
END:VTIMEZONE
BEGIN:VTIMEZONE
TZID:UTC
BEGIN:STANDARD
DTSTART:20250725T120925Z
TZOFFSETFROM:+0000
TZOFFSETTO:+0000
END:STANDARD
END:VTIMEZONE
BEGIN:VEVENT
UID:949-845
DTSTAMP:20260421T120925Z
SUMMARY:Autism and More at Home with Stacy Badon/Sensory Strategies for Tee
 ns and Young Adults
LOCATION:
ORGANIZER;CN=Liz Dumas:MAILTO:ldumas@fhfjefferson.org
DTSTART;TZID=America/Chicago:20200513T130000
DTEND;TZID=America/Chicago:20200513T140000
X-ALT-DESC;FMTTYPE=TEXT/HTML:Topic: Sensory Strategies for Teens and Young 
 Adults
CATEGORIES:Office Closure
URL;VALUE=URI:https://fhfofgno.org/mc-events/autism-and-more-at-home-with-s
 tacy-badon-sensory-strategies-for-teens-and-young-adults?mc_id=949
END:VEVENT
END:VCALENDAR