BEGIN:VCALENDAR
VERSION:2.0
PRODID:spatie/icalendar-generator
DESCRIPTION:Events from Families Helping Families of Greater New Orleans
X-WR-CALDESC:Events from Families Helping Families of Greater New Orleans
REFRESH-INTERVAL;VALUE=DURATION:PT1440M
X-PUBLISHED-TTL:PT1440M
BEGIN:VTIMEZONE
TZID:America/Chicago
BEGIN:STANDARD
DTSTART:20151101T020000Z
TZOFFSETFROM:-0500
TZOFFSETTO:-0600
END:STANDARD
BEGIN:DAYLIGHT
DTSTART:20160313T020000Z
TZOFFSETFROM:-0600
TZOFFSETTO:-0500
END:DAYLIGHT
BEGIN:STANDARD
DTSTART:20161106T020000Z
TZOFFSETFROM:-0500
TZOFFSETTO:-0600
END:STANDARD
END:VTIMEZONE
BEGIN:VTIMEZONE
TZID:UTC
BEGIN:STANDARD
DTSTART:20250727T103014Z
TZOFFSETFROM:+0000
TZOFFSETTO:+0000
END:STANDARD
END:VTIMEZONE
BEGIN:VEVENT
UID:216-171
DTSTAMP:20260423T103014Z
SUMMARY:Around the Special Education World in 1 Day
LOCATION:
ORGANIZER;CN=Liz Dumas:MAILTO:ldumas@fhfjefferson.org
DTSTART;TZID=America/Chicago:20160719T200000
DTEND;TZID=America/Chicago:20160719T210000
X-ALT-DESC;FMTTYPE=TEXT/HTML:When a child qualifies for special education s
 ervices\, federal law requires the development of a document called an Ind
 ividualized Education Program (IEP). Some students may not qualify for an 
 IEP\, but may receive accommodations and modifications from a 504 Plan or 
 may receive support through Response to Intervention. This webinar will ex
 plain the process for&amp;hellip\;
CATEGORIES:Trainings
URL;VALUE=URI:https://fhfofgno.org/mc-events/around-the-special-education-w
 orld-in-1-day-2?mc_id=216
END:VEVENT
END:VCALENDAR