BEGIN:VCALENDAR
VERSION:2.0
PRODID:spatie/icalendar-generator
DESCRIPTION:Events from Families Helping Families of Greater New Orleans
X-WR-CALDESC:Events from Families Helping Families of Greater New Orleans
REFRESH-INTERVAL;VALUE=DURATION:PT1440M
X-PUBLISHED-TTL:PT1440M
BEGIN:VTIMEZONE
TZID:America/Chicago
BEGIN:DAYLIGHT
DTSTART:20220313T020000Z
TZOFFSETFROM:-0600
TZOFFSETTO:-0500
END:DAYLIGHT
BEGIN:STANDARD
DTSTART:20221106T020000Z
TZOFFSETFROM:-0500
TZOFFSETTO:-0600
END:STANDARD
BEGIN:DAYLIGHT
DTSTART:20230312T020000Z
TZOFFSETFROM:-0600
TZOFFSETTO:-0500
END:DAYLIGHT
END:VTIMEZONE
BEGIN:VTIMEZONE
TZID:UTC
BEGIN:STANDARD
DTSTART:20250726T012004Z
TZOFFSETFROM:+0000
TZOFFSETTO:+0000
END:STANDARD
END:VTIMEZONE
BEGIN:VEVENT
UID:1351-1225
DTSTAMP:20260422T012004Z
SUMMARY:Anti-Discrimination Laws &amp;amp\; Students with Disabilities
LOCATION:
ORGANIZER;CN=Liz Dumas:MAILTO:ldumas@fhfjefferson.org
DTSTART;TZID=America/Chicago:20221116T110000
DTEND;TZID=America/Chicago:20221116T120000
X-ALT-DESC;FMTTYPE=TEXT/HTML:Anti-Discrimination Laws &amp;amp\; Students with 
 Disabilities - Section 504 of the Rehabilitation Act and the Americans wit
 h Disabilities Act are anti-discrimination laws. They prohibit schools fro
 m discriminating against students with disabilities. Join us and learn how
  these laws are significantly different than the Individuals with Disabili
 ties Education Act (IDEA)\, which establishes how to evaluate and&amp;hellip\;
CATEGORIES:Trainings
URL;VALUE=URI:https://fhfofgno.org/mc-events/anti-discrimination-laws-stude
 nts-with-disabilities?mc_id=1351
END:VEVENT
END:VCALENDAR