BEGIN:VCALENDAR
VERSION:2.0
PRODID:spatie/icalendar-generator
DESCRIPTION:Events from Families Helping Families of Greater New Orleans
X-WR-CALDESC:Events from Families Helping Families of Greater New Orleans
REFRESH-INTERVAL;VALUE=DURATION:PT1440M
X-PUBLISHED-TTL:PT1440M
BEGIN:VTIMEZONE
TZID:America/Chicago
BEGIN:STANDARD
DTSTART:20241103T020000Z
TZOFFSETFROM:-0500
TZOFFSETTO:-0600
END:STANDARD
BEGIN:DAYLIGHT
DTSTART:20250309T020000Z
TZOFFSETFROM:-0600
TZOFFSETTO:-0500
END:DAYLIGHT
BEGIN:STANDARD
DTSTART:20251102T020000Z
TZOFFSETFROM:-0500
TZOFFSETTO:-0600
END:STANDARD
END:VTIMEZONE
BEGIN:VTIMEZONE
TZID:UTC
BEGIN:STANDARD
DTSTART:20250725T214059Z
TZOFFSETFROM:+0000
TZOFFSETTO:+0000
END:STANDARD
END:VTIMEZONE
BEGIN:VEVENT
UID:1711-1574
DTSTAMP:20260421T214059Z
SUMMARY:All Hazards Emergency Preparedness for Individuals with Disabilitie
 s or Medical Conditions
LOCATION:
ORGANIZER;CN=Liz Dumas:MAILTO:ldumas@fhfjefferson.org
DTSTART;TZID=America/Chicago:20250604T130000
DTEND;TZID=America/Chicago:20250604T140000
X-ALT-DESC;FMTTYPE=TEXT/HTML:All Hazards Emergency Preparedness for Individ
 uals with Disabilities or Medical Conditions - You could be on your own fo
 r the first 72 hours after a disaster as first responders may not be able 
 to reach you.  Are you prepared?  Being as prepared as possible is your 
 best bet to make it through an emergency safely\,&amp;hellip\;
CATEGORIES:Trainings
URL;VALUE=URI:https://fhfofgno.org/mc-events/all-hazards-emergency-prepared
 ness-for-individuals-with-disabilities-or-medical-conditions?mc_id=1711
END:VEVENT
END:VCALENDAR