BEGIN:VCALENDAR
VERSION:2.0
PRODID:spatie/icalendar-generator
DESCRIPTION:Events from Families Helping Families of Greater New Orleans
X-WR-CALDESC:Events from Families Helping Families of Greater New Orleans
REFRESH-INTERVAL;VALUE=DURATION:PT1440M
X-PUBLISHED-TTL:PT1440M
BEGIN:VTIMEZONE
TZID:America/Chicago
BEGIN:STANDARD
DTSTART:20211107T020000Z
TZOFFSETFROM:-0500
TZOFFSETTO:-0600
END:STANDARD
BEGIN:DAYLIGHT
DTSTART:20220313T020000Z
TZOFFSETFROM:-0600
TZOFFSETTO:-0500
END:DAYLIGHT
END:VTIMEZONE
BEGIN:VTIMEZONE
TZID:UTC
BEGIN:STANDARD
DTSTART:20250727T180921Z
TZOFFSETFROM:+0000
TZOFFSETTO:+0000
END:STANDARD
END:VTIMEZONE
BEGIN:VEVENT
UID:1248-1129
DTSTAMP:20260423T180921Z
SUMMARY:All About Tests and Evaluations
LOCATION:
ORGANIZER;CN=Liz Dumas:MAILTO:ldumas@fhfjefferson.org
DTSTART;TZID=America/Chicago:20220316T120000
DTEND;TZID=America/Chicago:20220316T130000
X-ALT-DESC;FMTTYPE=TEXT/HTML:All About Tests and Evaluations - In this webi
 nar we will talk All About Assessments and Testing. It will answer some fr
 equently asked questions regarding assessments and testing\, when to have 
 your child evaluated and interpreting those assessment results. Presenter:
  Jessica Rodrigue\, FHF of Greater New Orleans Co-Host: FHF of Southwest L
 a. Audience: Parents\, Caregivers\,&amp;hellip\;
CATEGORIES:Trainings
URL;VALUE=URI:https://fhfofgno.org/mc-events/all-about-tests-and-evaluation
 s-3?mc_id=1248
END:VEVENT
END:VCALENDAR