BEGIN:VCALENDAR
VERSION:2.0
PRODID:spatie/icalendar-generator
DESCRIPTION:Events from Families Helping Families of Greater New Orleans
X-WR-CALDESC:Events from Families Helping Families of Greater New Orleans
REFRESH-INTERVAL;VALUE=DURATION:PT1440M
X-PUBLISHED-TTL:PT1440M
BEGIN:VTIMEZONE
TZID:America/Chicago
BEGIN:STANDARD
DTSTART:20171105T020000Z
TZOFFSETFROM:-0500
TZOFFSETTO:-0600
END:STANDARD
BEGIN:DAYLIGHT
DTSTART:20180311T020000Z
TZOFFSETFROM:-0600
TZOFFSETTO:-0500
END:DAYLIGHT
END:VTIMEZONE
BEGIN:VTIMEZONE
TZID:UTC
BEGIN:STANDARD
DTSTART:20250726T170545Z
TZOFFSETFROM:+0000
TZOFFSETTO:+0000
END:STANDARD
END:VTIMEZONE
BEGIN:VEVENT
UID:548-460
DTSTAMP:20260422T170545Z
SUMMARY:After the resume comes looking for a job
LOCATION:
ORGANIZER;CN=Liz Dumas:MAILTO:ldumas@fhfjefferson.org
DTSTART;TZID=America/Chicago:20180110T130000
DTEND;TZID=America/Chicago:20180110T140000
X-ALT-DESC;FMTTYPE=TEXT/HTML:After the resume comes looking for a job: Mos
 t people get their first jobs through their parents or someone else they k
 now. This shouldn’t be any different for you. Your parents\, brothers\, 
 sister\, aunts\, uncles\, neighbors and friends all either work somewhere 
 or know people working. This facebook live gives you tips on how to find 
 jobs&amp;hellip\;
CATEGORIES:Office Closure
URL;VALUE=URI:https://fhfofgno.org/mc-events/after-the-resume-comes-looking
 -for-a-job?mc_id=548
END:VEVENT
END:VCALENDAR