BEGIN:VCALENDAR
VERSION:2.0
PRODID:spatie/icalendar-generator
DESCRIPTION:Events from Families Helping Families of Greater New Orleans
X-WR-CALDESC:Events from Families Helping Families of Greater New Orleans
REFRESH-INTERVAL;VALUE=DURATION:PT1440M
X-PUBLISHED-TTL:PT1440M
BEGIN:VTIMEZONE
TZID:America/Chicago
BEGIN:DAYLIGHT
DTSTART:20170312T020000Z
TZOFFSETFROM:-0600
TZOFFSETTO:-0500
END:DAYLIGHT
BEGIN:STANDARD
DTSTART:20171105T020000Z
TZOFFSETFROM:-0500
TZOFFSETTO:-0600
END:STANDARD
END:VTIMEZONE
BEGIN:VTIMEZONE
TZID:UTC
BEGIN:STANDARD
DTSTART:20250726T185328Z
TZOFFSETFROM:+0000
TZOFFSETTO:+0000
END:STANDARD
END:VTIMEZONE
BEGIN:VEVENT
UID:459-382
DTSTAMP:20260422T185328Z
SUMMARY:Accommodations vs Modifications
LOCATION:
ORGANIZER;CN=Liz Dumas:MAILTO:ldumas@fhfjefferson.org
DTSTART;TZID=America/Chicago:20170905T100000
DTEND;TZID=America/Chicago:20170905T110000
X-ALT-DESC;FMTTYPE=TEXT/HTML:Accommodations vs. Modifications - Meeting aft
 er meeting\, parents and teachers use the words “accommodation” and 
 “modification” almost interchangeably when discussing IEPs and student
  needs. If understood and used correctly\, these words can greatly impact 
 the success of a child’s educational program. Get answers to these quest
 ions and more: How can accommodations and modifications help my&amp;hellip\;
CATEGORIES:Trainings
URL;VALUE=URI:https://fhfofgno.org/mc-events/accommodations-vs-modification
 s-2?mc_id=459
END:VEVENT
END:VCALENDAR