BEGIN:VCALENDAR
VERSION:2.0
PRODID:spatie/icalendar-generator
DESCRIPTION:Events from Families Helping Families of Greater New Orleans
X-WR-CALDESC:Events from Families Helping Families of Greater New Orleans
REFRESH-INTERVAL;VALUE=DURATION:PT1440M
X-PUBLISHED-TTL:PT1440M
BEGIN:VTIMEZONE
TZID:America/Chicago
BEGIN:STANDARD
DTSTART:20241103T020000Z
TZOFFSETFROM:-0500
TZOFFSETTO:-0600
END:STANDARD
BEGIN:DAYLIGHT
DTSTART:20250309T020000Z
TZOFFSETFROM:-0600
TZOFFSETTO:-0500
END:DAYLIGHT
BEGIN:STANDARD
DTSTART:20251102T020000Z
TZOFFSETFROM:-0500
TZOFFSETTO:-0600
END:STANDARD
END:VTIMEZONE
BEGIN:VTIMEZONE
TZID:UTC
BEGIN:STANDARD
DTSTART:20250725T232422Z
TZOFFSETFROM:+0000
TZOFFSETTO:+0000
END:STANDARD
END:VTIMEZONE
BEGIN:VEVENT
UID:1712-1575
DTSTAMP:20260421T232422Z
SUMMARY:A Parent's Guide to IEPs v 504 Plans
LOCATION:
ORGANIZER;CN=Liz Dumas:MAILTO:ldumas@fhfjefferson.org
DTSTART;TZID=America/Chicago:20250603T120000
DTEND;TZID=America/Chicago:20250603T130000
X-ALT-DESC;FMTTYPE=TEXT/HTML:A Parent's Guide to IEPs v. 504 Plans – Stu
 dents with exceptionalities will usually qualify for either an IEP or a 
 504 Plan – but what is the difference\, and is one better than the other
 ? This training will take you through the eligibility process of both pla
 ns\, the laws that regulate both\, the differences in the plans\, and&amp;hell
 ip\;
CATEGORIES:Trainings
URL;VALUE=URI:https://fhfofgno.org/mc-events/a-parents-guide-to-ieps-v-504-
 plans-2?mc_id=1712
END:VEVENT
END:VCALENDAR