BEGIN:VCALENDAR
VERSION:2.0
PRODID:spatie/icalendar-generator
DESCRIPTION:Events from Families Helping Families of Greater New Orleans
X-WR-CALDESC:Events from Families Helping Families of Greater New Orleans
REFRESH-INTERVAL;VALUE=DURATION:PT1440M
X-PUBLISHED-TTL:PT1440M
BEGIN:VTIMEZONE
TZID:America/Chicago
BEGIN:DAYLIGHT
DTSTART:20160313T020000Z
TZOFFSETFROM:-0600
TZOFFSETTO:-0500
END:DAYLIGHT
BEGIN:STANDARD
DTSTART:20161106T020000Z
TZOFFSETFROM:-0500
TZOFFSETTO:-0600
END:STANDARD
BEGIN:DAYLIGHT
DTSTART:20170312T020000Z
TZOFFSETFROM:-0600
TZOFFSETTO:-0500
END:DAYLIGHT
END:VTIMEZONE
BEGIN:VTIMEZONE
TZID:UTC
BEGIN:STANDARD
DTSTART:20250727T060538Z
TZOFFSETFROM:+0000
TZOFFSETTO:+0000
END:STANDARD
END:VTIMEZONE
BEGIN:VEVENT
UID:181-140
DTSTAMP:20260423T060538Z
SUMMARY:2nd Annual 5K and Fun Run Against Bullying
LOCATION:
ORGANIZER;CN=Liz Dumas:MAILTO:ldumas@fhfjefferson.org
DTSTART;TZID=America/Chicago:20161001T080000
DTEND;TZID=America/Chicago:20161001T120000
X-ALT-DESC;FMTTYPE=TEXT/HTML:2nd Annual 5K and Fun Run Against Bullying Tim
 e to dust off those superhero capes and save Saturday\, October 1\, 2016 f
 or the 2nd Annul 5K and 1 mile Fun Run/Walk Against Bullying.  Save the d
 ate and don't miss out on this day of fun! Live Music   Great Food   Be
 er   Kid Activities   Awards&amp;hellip\;
CATEGORIES:Office Closure
URL;VALUE=URI:https://fhfofgno.org/mc-events/2nd-annual-5k-and-fun-run-agai
 nst-bullying?mc_id=181
END:VEVENT
END:VCALENDAR